BEGIN:VCALENDAR
VERSION:2.0
PRODID:-//Healing Touch Western Australia - ECPv5.0.2.1//NONSGML v1.0//EN
CALSCALE:GREGORIAN
METHOD:PUBLISH
X-WR-CALNAME:Healing Touch Western Australia
X-ORIGINAL-URL:http://www.healingtouchwesternaustralia.com.au
X-WR-CALDESC:Events for Healing Touch Western Australia
BEGIN:VTIMEZONE
TZID:Australia/Perth
BEGIN:STANDARD
TZOFFSETFROM:+0800
TZOFFSETTO:+0800
TZNAME:AWST
DTSTART:20200101T000000
END:STANDARD
END:VTIMEZONE
BEGIN:VEVENT
DTSTART;VALUE=DATE:20200307
DTEND;VALUE=DATE:20200309
DTSTAMP:20200229T144510
CREATED:20200106T091228Z
LAST-MODIFIED:20200131T021107Z
UID:1064-1583539200-1583711999@www.healingtouchwesternaustralia.com.au
SUMMARY:Unit 1 - Foundations of Healing Touch | Nedlands
DESCRIPTION:
URL:http://www.healingtouchwesternaustralia.com.au/event/unit-1/
LOCATION:SolarisCare\, Sir Charles Gairdner Hospital\, Block DD\, WA\, Australia
END:VEVENT
BEGIN:VEVENT
DTSTART;VALUE=DATE:20200327
DTEND;VALUE=DATE:20200330
DTSTAMP:20200229T144510
CREATED:20200106T091353Z
LAST-MODIFIED:20200131T021645Z
UID:1066-1585267200-1585526399@www.healingtouchwesternaustralia.com.au
SUMMARY:Retreat & Ordinary Gen Meeting | Shoalwater Bay
DESCRIPTION:
URL:http://www.healingtouchwesternaustralia.com.au/event/retreat-ordinary-gen-meeting/
LOCATION:St John of God Shoalwater
END:VEVENT
BEGIN:VEVENT
DTSTART;TZID=Australia/Perth:20200418T130000
DTEND;TZID=Australia/Perth:20200418T160000
DTSTAMP:20200229T144510
CREATED:20200106T091536Z
LAST-MODIFIED:20200131T021335Z
UID:1068-1587214800-1587225600@www.healingtouchwesternaustralia.com.au
SUMMARY:Practice | Nedlands
DESCRIPTION:
URL:http://www.healingtouchwesternaustralia.com.au/event/practice-2/
LOCATION:Solariscare – Sir Charles Gairdner Hospital\, Sir Charles Gairdner Hospital\, Nedlands\, 6009
END:VEVENT
BEGIN:VEVENT
DTSTART;TZID=Australia/Perth:20200523T103000
DTEND;TZID=Australia/Perth:20200523T120000
DTSTAMP:20200229T144510
CREATED:20200106T091751Z
LAST-MODIFIED:20200131T021433Z
UID:1070-1590229800-1590235200@www.healingtouchwesternaustralia.com.au
SUMMARY:Council Meeting | Nedlands
DESCRIPTION:
URL:http://www.healingtouchwesternaustralia.com.au/event/council-meeting-3/
LOCATION:SolarisCare\, Sir Charles Gairdner Hospital\, Block DD\, WA\, Australia
END:VEVENT
BEGIN:VEVENT
DTSTART;TZID=Australia/Perth:20200523T130000
DTEND;TZID=Australia/Perth:20200523T160000
DTSTAMP:20200229T144510
CREATED:20200106T091848Z
LAST-MODIFIED:20200131T021540Z
UID:1072-1590238800-1590249600@www.healingtouchwesternaustralia.com.au
SUMMARY:Practice | Nedlands
DESCRIPTION:
URL:http://www.healingtouchwesternaustralia.com.au/event/practice-3/
LOCATION:SolarisCare\, Sir Charles Gairdner Hospital\, Block DD\, WA\, Australia
END:VEVENT
BEGIN:VEVENT
DTSTART;TZID=Australia/Perth:20200606T080000
DTEND;TZID=Australia/Perth:20200606T160000
DTSTAMP:20200229T144510
CREATED:20200106T091957Z
LAST-MODIFIED:20200131T015754Z
UID:1074-1591430400-1591459200@www.healingtouchwesternaustralia.com.au
SUMMARY:Sausage Sizzle | Bunnings – Armadale
DESCRIPTION:
URL:http://www.healingtouchwesternaustralia.com.au/event/sausage-sizzle/
LOCATION:Bunnings\,  Armadale Roadd\, Armadale\, WA\, 6112\, Australia
END:VEVENT
BEGIN:VEVENT
DTSTART;VALUE=DATE:20200612
DTEND;VALUE=DATE:20200614
DTSTAMP:20200229T144510
CREATED:20200106T092048Z
LAST-MODIFIED:20200131T022039Z
UID:1076-1591920000-1592092799@www.healingtouchwesternaustralia.com.au
SUMMARY:Unit 2 - Energetic Patterning and Clinical Applications | Nedlands
DESCRIPTION:
URL:http://www.healingtouchwesternaustralia.com.au/event/unit-2/
LOCATION:SolarisCare\, Sir Charles Gairdner Hospital\, Block DD\, WA\, Australia
END:VEVENT
BEGIN:VEVENT
DTSTART;TZID=Australia/Perth:20200620T130000
DTEND;TZID=Australia/Perth:20200620T160000
DTSTAMP:20200229T144510
CREATED:20200106T092202Z
LAST-MODIFIED:20200131T022132Z
UID:1078-1592658000-1592668800@www.healingtouchwesternaustralia.com.au
SUMMARY:Practice | Nedlands
DESCRIPTION:
URL:http://www.healingtouchwesternaustralia.com.au/event/practice-4/
LOCATION:Solariscare – Sir Charles Gairdner Hospital\, Sir Charles Gairdner Hospital\, Nedlands\, 6009
END:VEVENT
BEGIN:VEVENT
DTSTART;TZID=Australia/Perth:20200718T103000
DTEND;TZID=Australia/Perth:20200718T120000
DTSTAMP:20200229T144510
CREATED:20200106T092301Z
LAST-MODIFIED:20200131T022401Z
UID:1080-1595068200-1595073600@www.healingtouchwesternaustralia.com.au
SUMMARY:Council Meeting | Nedlands
DESCRIPTION:
URL:http://www.healingtouchwesternaustralia.com.au/event/council-meeting-4/
LOCATION:SolarisCare\, Sir Charles Gairdner Hospital\, Block DD\, WA\, Australia
END:VEVENT
BEGIN:VEVENT
DTSTART;TZID=Australia/Perth:20200718T103000
DTEND;TZID=Australia/Perth:20200718T120000
DTSTAMP:20200229T144510
CREATED:20200106T092421Z
LAST-MODIFIED:20200131T020613Z
UID:1082-1595068200-1595073600@www.healingtouchwesternaustralia.com.au
SUMMARY:Advanced Practice | Nedlands
DESCRIPTION:
URL:http://www.healingtouchwesternaustralia.com.au/event/advanced-practice/
LOCATION:SolarisCare\, Sir Charles Gairdner Hospital\, Block DD\, WA\, Australia
END:VEVENT
BEGIN:VEVENT
DTSTART;VALUE=DATE:20200822
DTEND;VALUE=DATE:20200824
DTSTAMP:20200229T144510
CREATED:20200106T092718Z
LAST-MODIFIED:20200131T022553Z
UID:1088-1598054400-1598227199@www.healingtouchwesternaustralia.com.au
SUMMARY:Unit 3 - Advanced Healer Preparation | Nedlands
DESCRIPTION:
URL:http://www.healingtouchwesternaustralia.com.au/event/unit-3/
LOCATION:SolarisCare\, Sir Charles Gairdner Hospital\, Block DD\, WA\, Australia
END:VEVENT
BEGIN:VEVENT
DTSTART;TZID=Australia/Perth:20200822T130000
DTEND;TZID=Australia/Perth:20200822T160000
DTSTAMP:20200229T144510
CREATED:20200106T092629Z
LAST-MODIFIED:20200131T022637Z
UID:1086-1598101200-1598112000@www.healingtouchwesternaustralia.com.au
SUMMARY:Practice | Nedlands
DESCRIPTION:
URL:http://www.healingtouchwesternaustralia.com.au/event/practice-5/
LOCATION:Solariscare – Sir Charles Gairdner Hospital\, Sir Charles Gairdner Hospital\, Nedlands\, 6009
END:VEVENT
BEGIN:VEVENT
DTSTART;VALUE=DATE:20200909
DTEND;VALUE=DATE:20200910
DTSTAMP:20200229T144510
CREATED:20200108T074502Z
LAST-MODIFIED:20200108T074954Z
UID:1221-1599609600-1599695999@www.healingtouchwesternaustralia.com.au
SUMMARY:LILY DAY
DESCRIPTION:
URL:http://www.healingtouchwesternaustralia.com.au/event/lily-day/
LOCATION:WA
END:VEVENT
BEGIN:VEVENT
DTSTART;TZID=Australia/Perth:20200912T103000
DTEND;TZID=Australia/Perth:20200912T120000
DTSTAMP:20200229T144510
CREATED:20200106T092846Z
LAST-MODIFIED:20200131T022750Z
UID:1090-1599906600-1599912000@www.healingtouchwesternaustralia.com.au
SUMMARY:AGM | Nedlands
DESCRIPTION:
URL:http://www.healingtouchwesternaustralia.com.au/event/agm/
LOCATION:SolarisCare\, Sir Charles Gairdner Hospital\, Block DD\, WA\, Australia
END:VEVENT
BEGIN:VEVENT
DTSTART;TZID=Australia/Perth:20200912T130000
DTEND;TZID=Australia/Perth:20200912T160000
DTSTAMP:20200229T144510
CREATED:20200106T092942Z
LAST-MODIFIED:20200131T022834Z
UID:1092-1599915600-1599926400@www.healingtouchwesternaustralia.com.au
SUMMARY:Practice | Nedlands
DESCRIPTION:
URL:http://www.healingtouchwesternaustralia.com.au/event/practice-6/
LOCATION:SolarisCare\, Sir Charles Gairdner Hospital\, Block DD\, WA\, Australia
END:VEVENT
BEGIN:VEVENT
DTSTART;TZID=Australia/Perth:20201017T103000
DTEND;TZID=Australia/Perth:20201017T120000
DTSTAMP:20200229T144510
CREATED:20200106T093043Z
LAST-MODIFIED:20200131T022918Z
UID:1094-1602930600-1602936000@www.healingtouchwesternaustralia.com.au
SUMMARY:Council Meeting | Nedlands
DESCRIPTION:
URL:http://www.healingtouchwesternaustralia.com.au/event/council-meeting-5/
LOCATION:Solariscare – Sir Charles Gairdner Hospital\, Sir Charles Gairdner Hospital\, Nedlands\, 6009
END:VEVENT
BEGIN:VEVENT
DTSTART;TZID=Australia/Perth:20201017T130000
DTEND;TZID=Australia/Perth:20201017T160000
DTSTAMP:20200229T144510
CREATED:20200106T093135Z
LAST-MODIFIED:20200131T023003Z
UID:1096-1602939600-1602950400@www.healingtouchwesternaustralia.com.au
SUMMARY:Practice | Nedlands
DESCRIPTION:
URL:http://www.healingtouchwesternaustralia.com.au/event/practice-7/
LOCATION:Solariscare – Sir Charles Gairdner Hospital\, Sir Charles Gairdner Hospital\, Nedlands\, 6009
END:VEVENT
BEGIN:VEVENT
DTSTART;TZID=Australia/Perth:20201025T090000
DTEND;TZID=Australia/Perth:20201025T160000
DTSTAMP:20200229T144510
CREATED:20200106T093236Z
LAST-MODIFIED:20200131T023135Z
UID:1098-1603616400-1603641600@www.healingtouchwesternaustralia.com.au
SUMMARY:Sausage Sizzle - Bunnings | Armadale
DESCRIPTION:
URL:http://www.healingtouchwesternaustralia.com.au/event/sausage-sizzle-2/
LOCATION:Bunnings\,  Armadale Roadd\, Armadale\, WA\, 6112\, Australia
END:VEVENT
BEGIN:VEVENT
DTSTART;TZID=Australia/Perth:20201111T080000
DTEND;TZID=Australia/Perth:20201111T143000
DTSTAMP:20200229T144510
CREATED:20200106T093524Z
LAST-MODIFIED:20200131T023229Z
UID:1100-1605081600-1605105000@www.healingtouchwesternaustralia.com.au
SUMMARY:Homeless Connect | Northbridge
DESCRIPTION:
URL:http://www.healingtouchwesternaustralia.com.au/event/homeless-connect-2/
LOCATION:Russel Square – Northbridge\, Russell Square\, Northbridge\, WA\, 6003\, Australia
END:VEVENT
BEGIN:VEVENT
DTSTART;VALUE=DATE:20201114
DTEND;VALUE=DATE:20201116
DTSTAMP:20200229T144510
CREATED:20200106T093640Z
LAST-MODIFIED:20200131T023331Z
UID:1102-1605312000-1605484799@www.healingtouchwesternaustralia.com.au
SUMMARY:Unit 1 - Foundations of Healing Touch | Nedlands
DESCRIPTION:
URL:http://www.healingtouchwesternaustralia.com.au/event/unit-1-2/
LOCATION:SolarisCare\, Sir Charles Gairdner Hospital\, Block DD\, WA\, Australia
END:VEVENT
BEGIN:VEVENT
DTSTART;TZID=Australia/Perth:20201128T103000
DTEND;TZID=Australia/Perth:20201128T160000
DTSTAMP:20200229T144510
CREATED:20200106T093850Z
LAST-MODIFIED:20200131T023414Z
UID:1104-1606559400-1606579200@www.healingtouchwesternaustralia.com.au
SUMMARY:Ordinary Gen Meeting & Xmas Party | Nedlands
DESCRIPTION:
URL:http://www.healingtouchwesternaustralia.com.au/event/ordinary-gen-meeting-xmas-party/
LOCATION:SolarisCare\, Sir Charles Gairdner Hospital\, Block DD\, WA\, Australia
END:VEVENT
END:VCALENDAR